BEGIN:VCALENDAR
VERSION:2.0
PRODID:-//PellMell59 - ECPv4.0.2//NONSGML v1.0//EN
CALSCALE:GREGORIAN
METHOD:PUBLISH
X-WR-CALNAME:PellMell59
X-ORIGINAL-URL:https://pellmell59.sk
X-WR-CALDESC:Events for PellMell59
BEGIN:VEVENT
DTSTART;TZID="UTC+2":20260621T170000
DTEND;TZID="UTC+2":20260621T180000
DTSTAMP:20260425T115613
CREATED:20260310T075441
LAST-MODIFIED:20260310T075441
UID:1193-1782061200-1782064800@pellmell59.sk
SUMMARY:Spolufest 2026
DESCRIPTION:Charitatívny festival v Trenčíne.
URL:https://pellmell59.sk/event/spolufest-2026/
LOCATION:Trenčín\, Slovenská republika
ATTACH;FMTTYPE=image/jpeg:https://pellmell59.sk/wp-content/uploads/2021/09/05122408-_J3A8020.jpg
END:VEVENT
END:VCALENDAR